BEGIN:VCALENDAR
VERSION:2.0
PRODID:-//eventon.com NONSGML v1.0//EN
CALSCALE:GREGORIAN
METHOD:PUBLISH
BEGIN:VEVENT
UID:69e5f7da34037
DTSTAMP:20260420T095434Z
DTSTART:20181021T180000Z
DTEND:20181021T190000Z
LOCATION:
SUMMARY:Howl-o-Ween Doggie Costume Contest & Parade @ Bates Nut Farm
DESCRIPTION:Email: info@batesnutfarm.biz Phone: 760-749-3333 Website: http:
 //www.batesnutfarm.biz/events Description: Don’t miss the annual “Howl-
 o-ween” Doggie Costume Contest &#038; Parade on Sunday\,  October 21st. B
 ring your dog in their favorite costume to enjoy the pumpkin patch and comp
 ete in the contest. Prizes will be awarded to the top dogs! Registration op
 ens at 9:00.[..]\nhttps://www.visitvalleycenter.com/events/howl-o-ween-dogg
 ie-costume-contest-parade-bates-nut-farm/
URL:https://www.visitvalleycenter.com/events/howl-o-ween-doggie-costume-contest-parade-bates-nut-farm/
END:VEVENT
END:VCALENDAR