BEGIN:VCALENDAR
VERSION:2.0
PRODID:-//eventon.com NONSGML v1.0//EN
CALSCALE:GREGORIAN
METHOD:PUBLISH
BEGIN:VEVENT
UID:69e5e138d9be3
DTSTAMP:20260420T081800Z
DTSTART:20190314T131000Z
DTEND:20190314T131000Z
LOCATION:Bates Nut Farm 15954 Woods Valley Rd
SUMMARY:“Kiss The Bride” Bridal Show
DESCRIPTION:More fashions\,  more new ideas\,  and more choices than you ca
 n imagine. With spectacular runway fashion shows and displays from the area
 ’s most trusted wedding professionals\,  you will find everything to make
  your wedding day extraordinary. Come and enjoy samples of cake &amp; gourm
 et foods. Inviting all San Diego\,  OC[..]\nhttps://www.visitvalleycenter.c
 om/events/kiss-the-bride-bridal-show/
URL:https://www.visitvalleycenter.com/events/kiss-the-bride-bridal-show/
END:VEVENT
END:VCALENDAR