BEGIN:VCALENDAR
VERSION:2.0
PRODID:-//eventon.com NONSGML v1.0//EN
CALSCALE:GREGORIAN
METHOD:PUBLISH
BEGIN:VEVENT
UID:69e746c2c5d85
DTSTAMP:20260421T094330Z
DTSTART:20190601T220000Z
DTEND:20190602T030000Z
LOCATION:Bates Nut Farm 15954 Woods Valley Rd
SUMMARY:Valley Center MusicFest
DESCRIPTION:Welcome to the 8th Annual Musicfest! Live music\,  car show\,  
 kids zone\,  food\,  raffle and silent auction\,  and overnight camping! Co
 me join us for live music and entertainment including high school/middle sc
 hool Jazz Bands\,  Drumlines\,  Jazz Choir and Winter Guard.\nhttps://www.v
 isitvalleycenter.com/events/valley-center-musicfest/
URL:https://www.visitvalleycenter.com/events/valley-center-musicfest/
END:VEVENT
END:VCALENDAR